Workbook

Sheet Razem
A1: Polski Cukier Muszynianka Fakro - Plan przygotowań do sezonu 2013/14 - RAZEM REALIZACJA PLANU
A2: Okresy - charakterystyka | C2: OKRES 1 (akumulacja) (02.08 - 30.08.2013) WAS + wytrzymałość ogólna, przemiany tlenowe | D2: OKRES 2 (intensyfikacja) (31.08 -18.09.2013) Fmax + wytrzym.specjalna i w elementach technicznych | E2: OKRES 3 (transformacja) (19.09 - 04.10.2013) Pmax + szybkość,zwinność, plyometria | F2: RAZEM
A3: Razem dni w makrocyklu / tygodnie | C3: =okres1!C1 -> 26 | D3: =okres2!C1 -> 18 | E3: =okres3!C1 -> 16 | F3: =SUM(C3:E3) -> 60 | G3: =F3/7 -> 8.5714286
A4: Razem dni treningowych | C4: =okres1!C2 -> 22 | D4: =okres2!C2 -> 14 | E4: =okres3!C2 -> 13 | F4: =SUM(C4:E4) -> 49
A5: Razem ilość dni wolnych | C5: =okres1!D2 -> 4 | D5: =okres2!D2 -> 4 | E5: =okres3!D2 -> 3 | F5: =SUM(C5:E5) -> 11
A6: Razem ilość treningów | C6: =okres1!C3 -> 34 | D6: =okres2!C3 -> 19 | E6: =okres3!C3 -> 17 | F6: =SUM(C6:E6) -> 70
A7: Razem ilość meczów sparingowych | C7: =okres1!D3 -> 2 | D7: =okres2!D3 -> 5 | E7: =okres3!D3 -> 3 | F7: =SUM(C7:E7) -> 10
A8: Lp. | B8: Środki treningowe | C8: Czas (min) | D8: Czas (min) | E8: Czas (min) | F8: ∑ | G8: %
A9: 1. | B9: Wstępna Adaptacja Siłowa (WAS) - siłownia | C9: =okres1!C5 -> 335 | D9: =okres2!C5 -> 0 | E9: =okres3!C5 -> 0 | F9: =C9+D9+E9 -> 335 | G9: =F9/F20 -> 0.076205641
A10: 2. | B10: Siła Maksymalna (FMAX) - siłownia | C10: =okres1!C6 -> 0 | D10: =okres2!C6 -> 375 | E10: =okres3!C6 -> 0 | F10: =C10+D10+E10 -> 375 | G10: =F10/F20 -> 0.085304823
A11: 3. | B11: Moc (PMAX) - siłownia | C11: =okres1!C7 -> 0 | D11: =okres2!C7 -> 0 | E11: =okres3!C7 -> 160 | F11: =C11+D11+E11 -> 160 | G11: =F11/F20 -> 0.036396724
A12: 4. | B12: Ćwiczenia z taśmami TRX | C12: =okres1!C8 -> 250 | D12: =okres2!C8 -> 100 | E12: =okres3!C8 -> 30 | F12: =C12+D12+E12 -> 380 | G12: =F12/F20 -> 0.08644222
A13: 5. | B13: Ćwiczenia z piłkami rehabilitacyjnymi | C13: =okres1!C9 -> 230 | D13: =okres2!C9 -> 100 | E13: =okres3!C9 -> 50 | F13: =C13+D13+E13 -> 380 | G13: =F13/F20 -> 0.08644222
A14: 6. | B14: Ćwiczenia z gumami | C14: =okres1!C10 -> 141 | D14: =okres2!C10 -> 35 | E14: =okres3!C10 -> 15 | F14: =C14+D14+E14 -> 191 | G14: =F14/F20 -> 0.04344859
A15: 7. | B15: Prewencja, priopercepcja,(stepy,aerobik,gridy) | C15: =okres1!C11 -> 190 | D15: =okres2!C11 -> 105 | E15: =okres3!C11 -> 80 | F15: =C15+D15+E15 -> 375 | G15: =F15/F20 -> 0.085304823
A16: 8. | B16: Wytrzymałość ogólna (tlenowa) - teren | C16: =okres1!C12 -> 420 | D16: =okres2!C12 -> 40 | E16: =okres3!C12 -> 0 | F16: =C16+D16+E16 -> 460 | G16: =F16/F20 -> 0.10464058
A17: 9. | B17: Wytrzymałość specjalna + ćw. Cardio | C17: =okres1!C13 -> 0 | D17: =okres2!C13 -> 40 | E17: =okres3!C13 -> 30 | F17: =C17+D17+E17 -> 70 | G17: =F17/F20 -> 0.015923567
A18: 10. | B18: Szybkość, skoczność, inne cechy (plyometria) | C18: =okres1!C14 -> 30 | D18: =okres2!C14 -> 65 | E18: =okres3!C14 -> 95 | F18: =C18+D18+E18 -> 190 | G18: =F18/F20 -> 0.04322111
A19: 11. | B19: Rozgrzewki i TBC (Total Body Condition): pilates, joga, stretching, g.funkcjonalna, gry i zabawy uzupełniajace | C19: =okres1!C15 -> 635 | D19: =okres2!C15 -> 455 | E19: =okres3!C15 -> 390 | F19: =C19+D19+E19 -> 1480 | G19: =F19/F20 -> 0.3366697
A20: Przygotowanie fizyczne Razem | C20: =SUM(C9:C19) -> 2231 | D20: =SUM(D9:D19) -> 1315 | E20: =SUM(E9:E19) -> 850 | F20: =SUM(F9:F19) -> 4396 | G20: =F20/F34 -> 0.4862294
A21: 1. | B21: Technika podstawowa (w rozgrzewkach) | C21: =okres1!C17 -> 240 | D21: =okres2!C17 -> 215 | E21: =okres3!C17 -> 235 | F21: =C21+D21+E21 -> 690 | G21: =F21/F25 -> 0.38227147
A22: 2. | B22: Zagrywka i przyjęcie | C22: =okres1!C18 -> 110 | D22: =okres2!C18 -> 90 | E22: =okres3!C18 -> 130 | F22: =C22+D22+E22 -> 330 | G22: =F22/F25 -> 0.18282548
A23: 3. | B23: Atak, blok, rozegranie | C23: =okres1!C19 -> 100 | D23: =okres2!C19 -> 170 | E23: =okres3!C19 -> 125 | F23: =C23+D23+E23 -> 395 | G23: =F23/F25 -> 0.21883657
A24: 4. | B24: Obrona i asekuracja | C24: =okres1!C20 -> 110 | D24: =okres2!C20 -> 160 | E24: =okres3!C20 -> 120 | F24: =C24+D24+E24 -> 390 | G24: =F24/F25 -> 0.21606648
A25: Technika indywidualna (ćwiczenia wyizolowane) Razem | C25: =SUM(C21:C24) -> 560 | D25: =SUM(D21:D24) -> 635 | E25: =SUM(E21:E24) -> 610 | F25: =SUM(F21:F24) -> 1805 | G25: =F25/F34 -> 0.19964606
A26: 1. | B26: Małe gry - turnieje na treningu | C26: =okres1!C22 -> 160 | D26: =okres2!C22 -> 140 | E26: =okres3!C22 -> 100 | F26: =C26+D26+E26 -> 400 | G26: =F26/F30 -> 0.22988506
A27: 2. | B27: Gry szkolne techniczno - taktyczne (3,4,5) | C27: =okres1!C23 -> 110 | D27: =okres2!C23 -> 125 | E27: =okres3!C23 -> 45 | F27: =C27+D27+E27 -> 280 | G27: =F27/F30 -> 0.16091954
A28: 3. | B28: Fragmenty gry w ustawieniach i gra właściwa | C28: =okres1!C24 -> 0 | D28: =okres2!C24 -> 100 | E28: =okres3!C24 -> 330 | F28: =C28+D28+E28 -> 430 | G28: =F28/F30 -> 0.24712644
A29: 4. | B29: Mecze sparingowe i mistrzowskie | C29: =okres1!C25 -> 0 | D29: =okres2!C25 -> 360 | E29: =okres3!C25 -> 270 | F29: =C29+D29+E29 -> 630 | G29: =F29/F30 -> 0.36206897
A30: Technika i taktyka zespołowa Razem | C30: =SUM(C26:C29) -> 270 | D30: =SUM(D26:D29) -> 725 | E30: =SUM(E26:E29) -> 745 | F30: =SUM(F26:F29) -> 1740 | G30: =F30/F34 -> 0.19245659
A31: 1. | B31: Taktyka meczowa i sprawy organizacyjne | C31: =okres1!C27 -> 60 | D31: =okres2!C27 -> 40 | E31: =okres3!C27 -> 70 | F31: =C31+D31+E31 -> 170 | G31: =F31/F34 -> 0.01880323
A32: 2. | B32: Sprawdziany, próby, badania (lekarskie i balansu) | C32: =okres1!C28 -> 120 | D32: =okres2!C28 -> 0 | E32: =okres3!C28 -> 0 | F32: =C32+D32+E32 -> 120 | G32: =F32/F34 -> 0.013272868
A33: 3. | B33: Odnowa biologiczna, fizjoterapia,kąpiele siark. | C33: =okres1!C29 -> 720 | D33: =okres2!C29 -> 0 | E33: =okres3!C29 -> 90 | F33: =C33+D33+E33 -> 810 | G33: =F33/F34 -> 0.089591859
A34: RAZEM czas treningu (min.) (%) | C34: =C20+C25+C30+C31+C32+C33 -> 3961 | D34: =D20+D25+D30+D31+D39+D32+D33 -> 2715 | E34: =E20+E25+E30+E31+E32+E33 -> 2365 | F34: =F20+F25+F30+F31+F32+F33 -> 9041 | G34: =G20+G25+G30+G31+G32+G33 -> 1
C35: =C34/F34 -> 0.43811525 | D35: =D34/F34 -> 0.30029864 | E35: =E34/F34 -> 0.26158611

Sheet okres1
A1: Okres_1 - Akumulacja (WAS) (02.08 - 30.08.2013) - ilość dni makrocyklu / miejsce treningów (uwagi) | C1: =C2+D2 -> 26 | E1: Obóz w "Malinowy Zdrój" - 8 zawodniczek (Maj, Phlotova - kadra) | U1: Okres_1 - Akumulacja (WAS) (02.08 - 27.08.2013) - plan - ilość dni makrocyklu / miejsce treningów (uwagi) | W1: Muszyna (hala, silownia, wyjazd w góry), uczestniczy Sylwia Wojcieska | AZ1: Chimik Juzne | BB1: Chimik Juzne
A2: dni treningowych / dni wolnych,przejazdy | C2: =SUM(E2:AX2) -> 22 | D2: 4 | E2: 1 | F2: 1 | H2: 1 | J2: 1 | L2: 1 | N2: 1 | P2: 1 | R2: 1 | S2: W | T2: W | U2: dni treningowych / dni wolnych,przejazdy | W2: 1 | Y2: 1 | AA2: 1 | AC2: 1 | AE2: 1 | AG2: 1 | AH2: W | AI2: 1 | AK2: 1 | AM2: 1 | AO2: 1 | AQ2: 1 | AS2: 1 | AT2: W | AU2: 1 | AW2: 1 | AY2: 1 | BA2: 1 | BC2: 1
A3: ilość treningów / ilość meczów | C3: =SUM(E3:AX3) -> 34 | D3: 2 | E3: 1 | G3: 1 | H3: 1 | I3: 1 | J3: 1 | K3: 1 | L3: 1 | M3: 1 | N3: 1 | O3: 1 | P3: 1 | Q3: 1 | R3: 1 | U3: ilość treningów / ilość meczów | W3: 1 | X3: 1 | Y3: 1 | AA3: 1 | AB3: 1 | AC3: 1 | AE3: 1 | AF3: 1 | AG3: 1 | AI3: 1 | AJ3: 1 | AK3: 1 | AM3: 1 | AN3: 1 | AO3: 1 | AQ3: 1 | AR3: 1 | AS3: 1 | AU3: 1 | AV3: 1 | AW3: 1 | AY3: 1 | AZ3: M | BB3: M | BC3: 1
A4: Kalendarz Środki treningowe | C4: ∑ (min) | D4: % | E4: 2 | F4: 3 | H4: 4 | J4: 5 | L4: 6 | N4: 7 | P4: 8 | R4: 9 | S4: 10 | T4: 11 | U4: Kalendarz Środki treningowe | W4: 12 | Y4: 13 | AA4: 14 | AC4: 15 | AE4: 16 | AG4: 17 | AH4: 18 | AI4: 19 | AK4: 20 | AM4: 21 | AO4: 22 | AQ4: 23 | AS4: 24 | AT4: 25 | AU4: 26 | AW4: 27 | AY4: 28 | BA4: 29 | BC4: 30
A5: 1. | B5: Wstępna Adaptacja Siłowa (WAS) - siłownia | C5: =SUM(E5:AX5) -> 335 | D5: =C5/C16 -> 0.15015688 | K5: 45 | O5: 45 | U5: 1. | V5: Wstępna Adaptacja Siłowa (WAS) - siłownia | W5: 35 | AA5: 35 | AE5: 35 | AI5: 35 | AM5: 35 | AQ5: 35 | AU5: 35 | AY5: 35
A6: 2. | B6: Siła Maksymalna (FMAX) - siłownia | C6: =SUM(E6:AX6) -> 0 | D6: =C6/C16 -> 0 | U6: 2. | V6: Siła Maksymalna (FMAX) - siłownia
A7: 3. | B7: Moc (PMAX) - siłownia | C7: =SUM(E7:AX7) -> 0 | D7: =C7/C16 -> 0 | U7: 3. | V7: Moc (PMAX) - siłownia
A8: 4. | B8: Ćwiczenia z taśmami TRX | C8: =SUM(E8:AX8) -> 250 | D8: =C8/C16 -> 0.11205737 | I8: 40 | M8: 40 | Q8: 40 | U8: 4. | V8: Ćwiczenia z taśmami TRX | W8: 20 | AA8: 15 | AF8: 20 | AI8: 20 | AM8: 15 | AR8: 20 | AU8: 20 | AY8: 20
A9: 5. | B9: Ćwiczenia z piłkami stabilizacyjnymi | C9: =SUM(E9:AX9) -> 230 | D9: =C9/C16 -> 0.10309278 | I9: 30 | M9: 30 | Q9: 35 | U9: 5. | V9: Ćwiczenia z piłkami rehabilitacyjnymi | W9: 20 | AB9: 20 | AE9: 20 | AI9: 20 | AN9: 20 | AQ9: 15 | AV9: 20
A10: 6. | B10: Ćwiczenia z gumami | C10: =SUM(E10:AX10) -> 141 | D10: =C10/C16 -> 0.063200359 | G10: 20 | K10: 20 | O10: 20 | U10: 6. | V10: Ćwiczenia z gumami | X10: 20 | AE10: 1 | AF10: 20 | AJ10: 20 | AR10: 20 | AZ10: 5 | BB10: 5
A11: 7. | B11: Prewencja, priopriocepcja (poduszki,stepy,gridy) | C11: =SUM(E11:AX11) -> 190 | D11: =C11/C16 -> 0.085163604 | G11: 25 | K11: 20 | O11: 20 | U11: 7. | V11: Prewencja, priopercepcja,inne (stepy,aerobik,gridy) | W11: 20 | AA11: 15 | AE11: 20 | AI11: 20 | AM11: 15 | AQ11: 15 | AU11: 20 | AY11: 15
A12: 8. | B12: Wytrzymałość ogólna (tlenowa) - teren | C12: =SUM(E12:AX12) -> 420 | D12: =C12/C16 -> 0.18825639 | U12: 8. | V12: Wytrzymałość ogólna (tlenowa) - teren | Y12: 60 | AC12: 120 | AK12: 60 | AO12: 120 | AW12: 60 | BC12: 120
A13: 9. | B13: Wytrzymałość specjalna + ćw. Cardio | C13: =SUM(E13:AX13) -> 0 | D13: =C13/C16 -> 0 | U13: 9. | V13: Wytrzymałość specjalna + ćw. Cardio
A14: 10. | B14: Szybkość, skoczność, inne cechy (plyometria) | C14: =SUM(E14:AX14) -> 30 | D14: =C14/C16 -> 0.013446885 | U14: 10. | V14: Szybkość, skoczność, inne cechy (plyometria) | W14: 5 | AA14: 5 | AI14: 5 | AM14: 5 | AQ14: 5 | AU14: 5 | AZ14: 5 | BB14: 5
A15: 11. | B15: Rozgrzewki: TBC, pilates, joga, stretching, g.funkcjonalna, gry i zabawy uzupełniajace | C15: =SUM(E15:AX15) -> 635 | D15: =C15/C16 -> 0.28462573 | G15: 45 | I15: 35 | K15: 30 | M15: 35 | O15: 25 | Q15: 30 | U15: 11. | V15: Rozgrzewki i TBC (Total Body Condition): pilates, joga, stretching, g.funkcjonalna, gry i zabawy uzupełniajace | W15: 20 | X15: 25 | Y15: 30 | AA15: 20 | AB15: 25 | AE15: 20 | AF15: 25 | AG15: 20 | AI15: 20 | AJ15: 20 | AK15: 30 | AM15: 20 | AN15: 25 | AQ15: 20 | AR15: 20 | AS15: 20 | AU15: 20 | AV15: 25 | AW15: 30 | AY15: 20 | AZ15: 20 | BB15: 20
A16: Przygotowanie fizyczne Razem | C16: =SUM(C5:C15) -> 2231 | D16: =C$16/C$30 -> 0.56324161 | E16: =SUM(E5:E15) -> 0 | F16: =SUM(F5:F15) -> 0 | G16: =SUM(G5:G15) -> 90 | H16: =SUM(H5:H15) -> 0 | I16: =SUM(I5:I15) -> 105 | J16: =SUM(J5:J15) -> 0 | K16: =SUM(K5:K15) -> 115 | L16: =SUM(L5:L15) -> 0 | ... T16: =SUM(T5:T15) -> 0 | U16: Sprawność ogólna Razem | W16: =SUM(W5:W15) -> 120 | X16: =SUM(X5:X15) -> 45 | Y16: =SUM(Y5:Y15) -> 90 | Z16: =SUM(Z5:Z15) -> 0 | AA16: =SUM(AA5:AA15) -> 90 | AB16: =SUM(AB5:AB15) -> 45 | AC16: =SUM(AC5:AC15) -> 120 | AD16: =SUM(AD5:AD15) -> 0 | ... BD16: =SUM(BD5:BD15) -> 0
A17: 1. | B17: Technika podstawowa (w rozgrzewkach) | C17: =SUM(E17:AX17) -> 240 | D17: =C17/C21 -> 0.42857143 | U17: 1. | V17: Technika podstawowa (w rozgrzewkach) | X17: 45 | AA17: 15 | AB17: 15 | AE17: 15 | AF17: 15 | AG17: 15 | AJ17: 20 | AM17: 15 | AN17: 15 | AQ17: 15 | AR17: 15 | AS17: 15 | AU17: 10 | AV17: 15 | AY17: 10 | AZ17: 10 | BB17: 10
A18: 2. | B18: Zagrywka i przyjęcie | C18: =SUM(E18:AX18) -> 110 | D18: =C18/C21 -> 0.19642857 | U18: 2. | V18: Zagrywka i przyjęcie | AB18: 15 | AF18: 20 | AJ18: 20 | AM18: 20 | AR18: 15 | AU18: 20 | AY18: 20
A19: 3. | B19: Atak, blok, rozegranie | C19: =SUM(E19:AX19) -> 100 | D19: =C19/C21 -> 0.17857143 | U19: 3. | V19: Atak, blok, rozegranie | AB19: 20 | AF19: 15 | AG19: 15 | AN19: 20 | AR19: 15 | AS19: 15 | AZ19: 15 | BB19: 15
A20: 4. | B20: Obrona i asekuracja | C20: =SUM(E20:AX20) -> 110 | D20: =C20/C21 -> 0.19642857 | U20: 4. | V20: Obrona i asekuracja | AA20: 15 | AE20: 20 | AJ20: 25 | AQ20: 25 | AV20: 25
A21: Technika Indywidualna - Razem (ćwiczenia wyizolowane z piłkami) | C21: =SUM(C17:C20) -> 560 | D21: =C$21/C$30 -> 0.14137844 | E21: =SUM(E17:E20) -> 0 | F21: =SUM(F17:F20) -> 0 | G21: =SUM(G17:G20) -> 0 | H21: =SUM(H17:H20) -> 0 | I21: =SUM(I17:I20) -> 0 | J21: =SUM(J17:J20) -> 0 | K21: =SUM(K17:K20) -> 0 | L21: =SUM(L17:L20) -> 0 | ... T21: =SUM(T17:T20) -> 0 | U21: Technika Indywidualna - Razem (ćwiczenia wyizolowane z piłkami) | W21: =SUM(W17:W20) -> 0 | X21: =SUM(X17:X20) -> 45 | Y21: =SUM(Y17:Y20) -> 0 | Z21: =SUM(Z17:Z20) -> 0 | AA21: =SUM(AA17:AA20) -> 30 | AB21: =SUM(AB17:AB20) -> 50 | AC21: =SUM(AC17:AC20) -> 0 | AD21: =SUM(AD17:AD20) -> 0 | ... AW21: =SUM(AW17:AW20) -> 0 | AY21: =SUM(AY17:AY20) -> 30 | AZ21: =SUM(AZ17:AZ20) -> 25 | BA21: =SUM(BA17:BA20) -> 0 | BB21: =SUM(BB17:BB20) -> 25 | BC21: =SUM(BC17:BC20) -> 0 | BD21: =SUM(BD17:BD20) -> 0
A22: 1. | B22: Małe gry - turnieje na treningu | C22: =SUM(E22:AX22) -> 160 | D22: =C22/C26 -> 0.59259259 | U22: 1. | V22: Małe gry - turnieje na treningu | AG22: 60 | AN22: 40 | AS22: 60
A23: 2. | B23: Gry szkolne techniczno - taktyczne (3,4,5) | C23: =SUM(E23:AX23) -> 110 | D23: =C23/C26 -> 0.40740741 | U23: 2. | V23: Gry szkolne techniczno - taktyczne (3,4,5) | X23: 15 | AB23: 25 | AJ23: 20 | AR23: 20 | AV23: 30
A24: 3. | B24: Fragmenty gry w ustawieniach i gra właściwa | C24: =SUM(E24:AX24) -> 0 | D24: =C24/C26 -> 0 | U24: 3. | V24: Fragmenty gry w ustawieniach i gra właściwa
A25: 4. | B25: Mecze sparingowe i mistrzowskie | C25: =SUM(E25:AX25) -> 0 | D25: =C25/C26 -> 0 | U25: 4. | V25: Mecze sparingowe i mistrzowskie | AZ25: 90 | BB25: 90
A26: Technika i taktyka zespołowa Razem | C26: =SUM(C22:C25) -> 270 | D26: =C$26/C$30 -> 0.068164605 | E26: =SUM(E22:E25) -> 0 | F26: =SUM(F22:F25) -> 0 | G26: =SUM(G22:G25) -> 0 | H26: =SUM(H22:H25) -> 0 | I26: =SUM(I22:I25) -> 0 | J26: =SUM(J22:J25) -> 0 | K26: =SUM(K22:K25) -> 0 | L26: =SUM(L22:L25) -> 0 | ... S26: =SUM(S22:S25) -> 0 | T26: =SUM(T23:T25) -> 0 | U26: Technika i taktyka zespołowa Razem | W26: =SUM(W22:W25) -> 0 | X26: =SUM(X22:X25) -> 15 | Y26: =SUM(Y22:Y25) -> 0 | Z26: =SUM(Z22:Z25) -> 0 | AA26: =SUM(AA22:AA25) -> 0 | AB26: =SUM(AB22:AB25) -> 25 | AC26: =SUM(AC22:AC25) -> 0 | AD26: =SUM(AD22:AD25) -> 0 | ... BD26: =SUM(BD22:BD25) -> 0
A27: 1. | B27: Taktyka meczowa i sprawy organizacyjne | C27: =SUM(E27:AX27) -> 60 | D27: =C27/C30 -> 0.01514769 | E27: 60 | U27: 1. | V27: Taktyka meczowa i sprawy organizacyjne | AZ27: 10 | BB27: 10
A28: 2. | B28: Sprawdziany, próby, badania (lekarskie i balansu) | C28: =SUM(E28:AX28) -> 120 | D28: =C28/C30 -> 0.03029538 | G28: 120 | U28: 2. | V28: Sprawdziany, próby, badania (lekarskie i balansu)
A29: 3. | B29: Odnowa biologiczna, fizykoterapia, kąpiele siarkowe | C29: =SUM(E29:AX29) -> 720 | D29: =C29/C30 -> 0.18177228 | H29: 120 | J29: 120 | L29: 120 | N29: 120 | P29: 120 | R29: 120 | U29: 3. | V29: Odnowa biologiczna, zabiegi fizjoter.,kąpiele siarkowe
A30: Czas treningu (min.) RAZEM | C30: =C$21+C$16+C26+C27+C28+C29 -> 3961 | D30: =C30/Razem!F34 -> 0.43811525 | E30: =E$21+E$16+E26+E27+E28+E29 -> 60 | F30: =F$21+F$16+F26+F27+F28+F29 -> 0 | G30: =G$21+G$16+G26+G27+G28+G29 -> 210 | H30: =H$21+H$16+H26+H27+H28+H29 -> 120 | I30: =I$21+I$16+I26+I27+I28+I29 -> 105 | J30: =J$21+J$16+J26+J27+J28+J29 -> 120 | K30: =K$21+K$16+K26+K27+K28+K29 -> 115 | L30: =L$21+L$16+L26+L27+L28+L29 -> 120 | ... T30: =T$21+T$16+T26+T27+T28+T29 -> 0 | U30: Czas treningu (min.) RAZEM | W30: =W$21+W$16+W26+W27+W28+W29 -> 120 | X30: =X$21+X$16+X26+X27+X28+X29 -> 105 | Y30: =Y$21+Y$16+Y26+Y27+Y28+Y29 -> 90 | Z30: =Z$21+Z$16+Z26+Z27+Z28+Z29 -> 0 | AA30: =AA$21+AA$16+AA26+AA27+AA28+AA29 -> 120 | AB30: =AB$21+AB$16+AB26+AB27+AB28+AB29 -> 120 | AC30: =AC$21+AC$16+AC26+AC27+AC28+AC29 -> 120 | AD30: =AD$21+AD$16+AD26+AD27+AD28+AD29 -> 0 | ... BD30: =BD$21+BD$16+BD26+BD27+BD28+BD29 -> 0

Sheet okres2
A1: Okres_2 - Intensyfikacja (FMAX) (31.08 - 18.09.2013) - ilość dni makrocyklu /miejsce treningów (uwagi) | C1: =C2+D2 -> 18 | F1: Developres | H1: Muszyna, hala siłownia, kontuzja D.Golec (kolano) - zajęcia indywidualne | U1: Fakro Cup | AB1: Turniej w Jarocinie Bielsko,Bydgoszcz,Piła | AE1: trening z Ivaną Phlotovą
A2: dni treningowych / dni wolnych,przejazdy | C2: =SUM(E2:AI2) -> 14 | D2: 4 | E2: 1 | G2: W | H2: W | I2: 1 | K2: 1 | M2: 1 | O2: 1 | Q2: 1 | R2: W | T2: 1 | V2: 1 | X2: 1 | Z2: 1 | AB2: 1 | AD2: 1 | AE2: W | AF2: 1 | AH2: 1
A3: ilość treningów / ilość meczów | C3: =SUM(E3:AI3) -> 19 | D3: 5 | E3: 1 | F3: M | I3: 1 | J3: 1 | K3: 1 | L3: 1 | M3: 1 | O3: 1 | P3: 1 | Q3: 1 | S3: 1 | T3: 1 | U3: M | V3: 1 | W3: 1 | X3: 1 | Y3: 1 | Z3: 1 | AB3: M | AC3: M | AD3: M | AG3: 1 | AH3: 1 | AI3: 1
A4: Kalendarz Środki treningowe | C4: ∑ (min) | D4: % | E4: 31 | G4: 1 | H4: 2 | I4: 3 | K4: 4 | M4: 5 | O4: 6 | Q4: 7 | R4: 8 | S4: 9 | T4: 10 | V4: 11 | X4: 12 | Z4: 13 | AB4: 14 | AD4: 15 | AE4: 16 | AF4: 17 | AH4: 18
A5: 1. | B5: Wstępna Adaptacja Siłowa (WAS) - siłownia | C5: =SUM(G5:AI5) -> 0 | D5: =C5/C16 -> 0
A6: 2. | B6: Siła Maksymalna (FMAX) - siłownia | C6: =SUM(G6:AI6) -> 375 | D6: =C6/C16 -> 0.2851711 | E6: 75 | J6: 75 | M6: 75 | T6: 75 | X6: 75 | AH6: 75
A7: 3. | B7: Moc (PMAX) - siłownia | C7: =SUM(G7:AI7) -> 0 | D7: =C7/C16 -> 0
A8: 4. | B8: Ćwiczenia z taśmami TRX | C8: =SUM(G8:AI8) -> 100 | D8: =C8/C16 -> 0.076045627 | I8: 20 | O8: 20 | S8: 20 | Z8: 20 | AG8: 20
A9: 5. | B9: Ćwiczenia z piłkami rehabilitacyjnymi | C9: =SUM(G9:AI9) -> 100 | D9: =C9/C16 -> 0.076045627 | K9: 20 | P9: 20 | V9: 20 | Y9: 20 | AI9: 20
A10: 6. | B10: Ćwiczenia z gumami | C10: =SUM(G10:AI10) -> 35 | D10: =C10/C16 -> 0.02661597 | F10: 5 | P10: 15 | U10: 5 | AB10: 5 | AC10: 5 | AD10: 5
A11: 7. | B11: Prewencja, priopriocepcja (poduszki,stepy,gridy) | C11: =SUM(G11:AI11) -> 105 | D11: =C11/C16 -> 0.079847909 | I11: 20 | L11: 20 | S11: 20 | W11: 15 | AG11: 30
A12: 8. | B12: Wytrzymałość ogólna (tlenowa) - teren | C12: =SUM(G12:AI12) -> 40 | D12: =C12/C16 -> 0.030418251 | I12: 10 | O12: 10 | S12: 10 | W12: 10
A13: 9. | B13: Wytrzymałość specjalna + ćw. Cardio | C13: =SUM(G13:AI13) -> 40 | D13: =C13/C16 -> 0.030418251 | I13: 10 | O13: 10 | S13: 10 | W13: 10
A14: 10. | B14: Szybkość, skoczność, inne cechy (plyometria) | C14: =SUM(G14:AI14) -> 65 | D14: =C14/C16 -> 0.049429658 | E14: 5 | F14: 5 | J14: 5 | S14: 10 | T14: 5 | U14: 5 | X14: 5 | Z14: 5 | AB14: 5 | AC14: 5 | AD14: 5 | AG14: 5 | AI14: 10
A15: 11. | B15: Rozgrzewki: TBC, pilates, joga, stretching, g.funkcjonalna, gry i zabawy uzupełniajace | C15: =SUM(G15:AI15) -> 455 | D15: =C15/C16 -> 0.3460076 | E15: 20 | F15: 20 | I15: 20 | J15: 20 | K15: 20 | L15: 20 | M15: 20 | O15: 20 | P15: 20 | Q15: 20 | S15: 20 | T15: 20 | U15: 20 | V15: 25 | W15: 20 | X15: 20 | Y15: 25 | Z15: 20 | AB15: 20 | AC15: 20 | AD15: 20 | AG15: 20 | AH15: 25 | AI15: 20
A16: Przygotowanie fizyczne Razem | C16: =SUM(C5:C15) -> 1315 | D16: =C$16/C$30 -> 0.48434622 | E16: =SUM(E5:E15) -> 100 | F16: =SUM(F5:F15) -> 30 | G16: =SUM(G5:G15) -> 0 | H16: =SUM(H5:H15) -> 0 | I16: =SUM(I5:I15) -> 80 | J16: =SUM(J5:J15) -> 100 | K16: =SUM(K5:K15) -> 40 | L16: =SUM(L5:L15) -> 40 | ... AI16: =SUM(AI5:AI15) -> 50
A17: 1. | B17: Technika podstawowa (w rozgrzewkach) | C17: =SUM(G17:AI17) -> 215 | D17: =C17/C21 -> 0.33858268 | E17: 10 | F17: 10 | I17: 20 | K17: 10 | L17: 15 | O17: 15 | P17: 15 | Q17: 15 | S17: 15 | U17: 10 | V17: 10 | W17: 15 | Y17: 10 | Z17: 10 | AB17: 10 | AC17: 10 | AD17: 10 | AG17: 15 | AI17: 10
A18: 2. | B18: Zagrywka i przyjęcie | C18: =SUM(G18:AI18) -> 90 | D18: =C18/C21 -> 0.14173228 | E18: 20 | I18: 20 | L18: 15 | Q18: 20 | W18: 20 | Z18: 15
A19: 3. | B19: Atak, blok, rozegranie | C19: =SUM(G19:AI19) -> 170 | D19: =C19/C21 -> 0.26771654 | F19: 15 | L19: 25 | P19: 25 | U19: 15 | V19: 25 | Y19: 25 | AB19: 15 | AC19: 15 | AD19: 15 | AI19: 10
A20: 4. | B20: Obrona i asekuracja | C20: =SUM(G20:AI20) -> 160 | D20: =C20/C21 -> 0.2519685 | K20: 35 | Q20: 35 | S20: 30 | Z20: 30 | AG20: 30
A21: Technika Indywidualna - Razem (ćwiczenia wyizolowane z piłkami) | C21: =SUM(C17:C20) -> 635 | D21: =C$21/C$30 -> 0.23388582 | E21: =SUM(E17:E20) -> 30 | F21: =SUM(F17:F20) -> 25 | G21: =SUM(G17:G20) -> 0 | H21: =SUM(H17:H20) -> 0 | I21: =SUM(I17:I20) -> 40 | J21: =SUM(J17:J20) -> 0 | K21: =SUM(K17:K20) -> 45 | L21: =SUM(L17:L20) -> 55 | ... AI21: =SUM(AI17:AI20) -> 20
A22: 1. | B22: Małe gry - turnieje na treningu | C22: =SUM(G22:AI22) -> 140 | D22: =C22/C26 -> 0.19310345 | O22: 45 | Y22: 45 | AI22: 50
A23: 2. | B23: Gry szkolne techniczno - taktyczne (3,4,5) | C23: =SUM(G23:AI23) -> 125 | D23: =C23/C26 -> 0.17241379 | K23: 35 | L23: 25 | P23: 25 | V23: 40
A24: 3. | B24: Fragmenty gry w ustawieniach i gra właściwa | C24: =SUM(G24:AI24) -> 100 | D24: =C24/C26 -> 0.13793103 | Q24: 30 | W24: 40 | Z24: 30
A25: 4. | B25: Mecze sparingowe i mistrzowskie | C25: =SUM(G25:AI25) -> 360 | D25: =C25/C26 -> 0.49655172 | F25: 90 | U25: 90 | AB25: 90 | AC25: 90 | AD25: 90
A26: Technika i taktyka zespołowa Razem | C26: =SUM(C22:C25) -> 725 | D26: =C$26/C$30 -> 0.26703499 | E26: =SUM(E22:E25) -> 0 | F26: =SUM(F22:F25) -> 90 | G26: =SUM(G22:G25) -> 0 | H26: =SUM(H22:H25) -> 0 | I26: =SUM(I22:I25) -> 0 | J26: =SUM(J22:J25) -> 0 | K26: =SUM(K22:K25) -> 35 | L26: =SUM(L22:L25) -> 25 | ... AI26: =SUM(AI22:AI25) -> 50
A27: 1. | B27: Taktyka meczowa i sprawy organizacyjne | C27: =SUM(G27:AI27) -> 40 | D27: =C27/C30 -> 0.014732965 | F27: 10 | U27: 10 | AB27: 10 | AC27: 10 | AD27: 10
A28: 2. | B28: Sprawdziany, próby, badania (lekarskie i balansu) | C28: =SUM(G28:AI28) -> 0 | D28: =C28/C30 -> 0
A29: 3. | B29: Odnowa biologiczna, fizykoterapia | C29: =SUM(G29:AI29) -> 0 | D29: =C29/C30 -> 0
A30: Czas treningu (min.) RAZEM | C30: =C$21+C$16+C26+C27+C28+C29 -> 2715 | D30: =C30/Razem!F34 -> 0.30029864 | E30: =E$21+E$16+E26+E27+E28+E29 -> 130 | F30: =F$21+F$16+F26+F27+F28+F29 -> 155 | G30: =G$21+G$16+G26+G27+G28+G29 -> 0 | H30: =H$21+H$16+H26+H27+H28+H29 -> 0 | I30: =I$21+I$16+I26+I27+I28+I29 -> 120 | J30: =J$21+J$16+J26+J27+J28+J29 -> 100 | K30: =K$21+K$16+K26+K27+K28+K29 -> 120 | L30: =L$21+L$16+L26+L27+L28+L29 -> 120 | ... N30: =N$21+N$16+N26+N27+N28+N29 -> 0 | O30: =O$21+O$16+O26+O27+O28+P29 -> 120 | P30: =P$21+P$16+P26+P27+P28+P29 -> 120 | Q30: =Q$21+Q$16+Q26+Q27+Q28+Q29 -> 120 | R30: =R$21+R$16+R26+R27+R28+R29 -> 0 | S30: =S$21+S$16+S26+S27+S28+S29 -> 135 | T30: =T$21+T$16+T26+T27+T28+T29 -> 100 | U30: =U$21+U$16+U26+U27+U28+U29 -> 155 | V30: =V$21+V$16+V26+V27+V28+V29 -> 120 | W30: =W$21+W$16+W26+W27+W28+W29 -> 130 | ... AI30: =AI$21+AI$16+AI26+AI27+AI28+AI29 -> 120

Sheet okres3
A1: Okres_3 - Transformacja (PMAX) (19.09 - 04.10.2013) - ilość dni makrocyklu /miejsce treningów (uwagi) | C1: =C2+D2 -> 16 | Q1: Turniej we Wrocławiu Impel,Galatasaray, Schweriner
A2: dni treningowych / dni wolnych,przejazdy | C2: =SUM(E2:AG2) -> 13 | D2: 3 | E2: 1 | G2: 1 | I2: 1 | K2: W | L2: 1 | N2: 1 | P2: 1 | R2: 1 | T2: 1 | V2: W | W2: W | X2: 1 | Z2: 1 | AB2: 1 | AD2: 1 | AF2: 1
A3: ilość treningów / ilość meczów | C3: =SUM(E3:AG3) -> 17 | D3: 3 | F3: 1 | G3: 1 | H3: 1 | I3: 1 | J3: 1 | M3: 1 | N3: 1 | O3: 1 | Q3: M | R3: 1 | S3: M | T3: 1 | U3: M | Y3: 1 | Z3: 1 | AA3: 1 | AC3: 1 | AD3: 1 | AE3: 1 | AF3: 1
A4: Kalendarz (09-10) Środki treningowe | C4: ∑ (min) | D4: % | E4: 19 | G4: 20 | I4: 21 | K4: 22 | L4: 23 | N4: 24 | P4: 25 | R4: 26 | T4: 27 | V4: 28 | W4: 29 | X4: 30 | Z4: 1 | AB4: 2 | AD4: 3 | AF4: 4
A5: 1. | B5: Wstępna Adaptacja Siłowa (WAS) - siłownia | C5: =SUM(E5:AG5) -> 0 | D5: =C5/C16 -> 0
A6: 2. | B6: Siła Maksymalna (FMAX) - siłownia | C6: =SUM(E6:AG6) -> 0 | D6: =C6/C16 -> 0
A7: 3. | B7: Moc (PMAX) - siłownia | C7: =SUM(E7:AG7) -> 160 | D7: =C7/C16 -> 0.18823529 | G7: 50 | N7: 30 | Z7: 50 | AD7: 30
A8: 4. | B8: Ćwiczenia z taśmami TRX | C8: =SUM(E8:AG8) -> 30 | D8: =C8/C16 -> 0.035294118 | M8: 20 | Y8: 10
A9: 5. | B9: Ćwiczenia z piłkami rehabilitacyjnymi | C9: =SUM(E9:AG9) -> 50 | D9: =C9/C16 -> 0.058823529 | H9: 15 | O9: 15 | Y9: 10 | AE9: 10
A10: 6. | B10: Ćwiczenia z gumami | C10: =SUM(E10:AG10) -> 15 | D10: =C10/C16 -> 0.017647059 | Q10: 5 | S10: 5 | U10: 5
A11: 7. | B11: Prewencja, priopriocepcja (poduszki,stepy,gridy) | C11: =SUM(E11:AG11) -> 80 | D11: =C11/C16 -> 0.094117647 | H11: 10 | I11: 10 | M11: 30 | O11: 10 | Y11: 20
A12: 8. | B12: Wytrzymałość ogólna (tlenowa) - teren | C12: =SUM(E12:AG12) -> 0 | D12: =C12/C16 -> 0
A13: 9. | B13: Wytrzymałość specjalna + ćw. Cardio | C13: =SUM(E13:AG13) -> 30 | D13: =C13/C16 -> 0.035294118 | H13: 10 | O13: 10 | AA13: 10
A14: 10. | B14: Szybkość, skoczność, inne cechy (plyometria) | C14: =SUM(E14:AG14) -> 95 | D14: =C14/C16 -> 0.11176471 | F14: 5 | G14: 10 | M14: 5 | N14: 10 | Q14: 5 | S14: 5 | U14: 5 | Y14: 10 | Z14: 10 | AC14: 10 | AD14: 10 | AE14: 5 | AF14: 5
A15: 11. | B15: Rozgrzewki: TBC, pilates, joga, stretching, g.funkcjonalna, gry i zabawy uzupełniajace | C15: =SUM(E15:AG15) -> 390 | D15: =C15/C16 -> 0.45882353 | F15: 25 | G15: 20 | H15: 15 | I15: 25 | M15: 25 | N15: 20 | O15: 15 | Q15: 20 | R15: 25 | S15: 20 | T15: 25 | U15: 20 | Y15: 15 | Z15: 20 | AA15: 20 | AC15: 20 | AD15: 20 | AE15: 20 | AF15: 20
A16: Przygotowanie fizyczne Razem | C16: =SUM(C5:C15) -> 850 | D16: =C$16/C$30 -> 0.35940803 | E16: =SUM(E5:E15) -> 0 | F16: =SUM(F5:F15) -> 30 | G16: =SUM(G5:G15) -> 80 | H16: =SUM(H5:H15) -> 50 | I16: =SUM(I5:I15) -> 35 | J16: =SUM(J5:J15) -> 0 | K16: =SUM(K5:K15) -> 0 | L16: =SUM(L5:L15) -> 0 | ... AG16: =SUM(AG5:AG15) -> 0
A17: 1. | B17: Technika podstawowa (w rozgrzewkach) | C17: =SUM(E17:AG17) -> 235 | D17: =C17/C21 -> 0.3852459 | F17: 15 | G17: 15 | H17: 10 | I17: 15 | M17: 15 | N17: 15 | O17: 10 | Q17: 10 | R17: 10 | S17: 10 | T17: 10 | U17: 10 | Y17: 10 | Z17: 15 | AA17: 15 | AC17: 10 | AD17: 15 | AE17: 10 | AF17: 15
A18: 2. | B18: Zagrywka i przyjęcie | C18: =SUM(E18:AG18) -> 130 | D18: =C18/C21 -> 0.21311475 | G18: 25 | N18: 25 | R18: 15 | T18: 15 | Z18: 25 | AD18: 25
A19: 3. | B19: Atak, blok, rozegranie | C19: =SUM(E19:AG19) -> 125 | D19: =C19/C21 -> 0.20491803 | F19: 15 | O19: 15 | Q19: 15 | S19: 15 | U19: 15 | AA19: 25 | AE19: 15 | AF19: 10
A20: 4. | B20: Obrona i asekuracja | C20: =SUM(E20:AG20) -> 120 | D20: =C20/C21 -> 0.19672131 | I20: 15 | M20: 25 | R20: 10 | T20: 10 | Y20: 25 | AC20: 20 | AF20: 15
A21: Technika Indywidualna - Razem (ćwiczenia wyizolowane z piłkami) | C21: =SUM(C17:C20) -> 610 | D21: =C$21/C$30 -> 0.25792812 | E21: =SUM(E17:E20) -> 0 | F21: =SUM(F17:F20) -> 30 | G21: =SUM(G17:G20) -> 40 | H21: =SUM(H17:H20) -> 10 | I21: =SUM(I17:I20) -> 30 | J21: =SUM(J17:J20) -> 0 | K21: =SUM(K17:K20) -> 0 | L21: =SUM(L17:L20) -> 0 | ... AG21: =SUM(AG17:AG20) -> 0
A22: 1. | B22: Małe gry - turnieje na treningu | C22: =SUM(E22:AG22) -> 100 | D22: =C22/C26 -> 0.13422819 | I22: 50 | AA22: 50
A23: 2. | B23: Gry szkolne techniczno - taktyczne (3,4,5) | C23: =SUM(E23:AG23) -> 45 | D23: =C23/C26 -> 0.060402685 | Y23: 25 | AE23: 20
A24: 3. | B24: Fragmenty gry w ustawieniach i gra właściwa | C24: =SUM(E24:AG24) -> 330 | D24: =C24/C26 -> 0.44295302 | F24: 60 | H24: 60 | O24: 50 | AC24: 60 | AE24: 40 | AF24: 60
A25: 4. | B25: Mecze sparingowe i mistrzowskie | C25: =SUM(E25:AG25) -> 270 | D25: =C25/C26 -> 0.36241611 | Q25: 90 | S25: 90 | U25: 90
A26: Technika i taktyka zespołowa Razem | C26: =SUM(C22:C25) -> 745 | D26: =C$26/C$30 -> 0.31501057 | E26: =SUM(E22:E25) -> 0 | F26: =SUM(F22:F25) -> 60 | G26: =SUM(G22:G25) -> 0 | H26: =SUM(H22:H25) -> 60 | I26: =SUM(I22:I25) -> 50 | J26: =SUM(J22:J25) -> 0 | K26: =SUM(K22:K25) -> 0 | L26: =SUM(L22:L25) -> 0 | ... AG26: =SUM(AG22:AG25) -> 0
A27: 1. | B27: Taktyka meczowa i sprawy organizacyjne | C27: =SUM(E27:AG27) -> 70 | D27: =C27/C30 -> 0.029598309 | Q27: 10 | S27: 10 | U27: 10 | AF27: 40
A28: 2. | B28: Sprawdziany, próby, badania (lekarskie i balansu) | C28: =SUM(E28:AG28) -> 0 | D28: =C28/C30 -> 0
A29: 3. | B29: Odnowa biologiczna, fizykoterapia | C29: =SUM(E29:AG29) -> 90 | D29: =C29/C30 -> 0.038054968 | J29: 90
A30: Czas treningu (min.) RAZEM | C30: =C$21+C$16+C26+C27+C28+C29 -> 2365 | D30: =C30/Razem!F34 -> 0.26158611 | E30: =E$21+E$16+E26+E27+E28+E29 -> 0 | F30: =F$21+F$16+F26+F27+F28+F29 -> 120 | G30: =G$21+G$16+G26+G27+G28+G29 -> 120 | H30: =H$21+H$16+H26+H27+H28+H29 -> 120 | I30: =I$21+I$16+I26+I27+I28+I29 -> 115 | J30: =J$21+J$16+J26+J27+J28+J29 -> 90 | K30: =K$21+K$16+K26+K27+K28+K29 -> 0 | L30: =L$21+L$16+L26+L27+L28+L29 -> 0 | ... AG30: =AG$21+AG$16+AG26+AG27+AG28+AG29 -> 0

Sheet mecze-skład
A1: SKŁAD ZESPOŁU sezon 2013/14
A2: Numer | B2: Nazwisko i imię | D2: Pozycja | E2: Rok urodzenia/wzrost
A3: 3 | B3: Karolina Różycka | D3: skrzydłowa
A4: 4 | B4: Magdalena Mazurek | D4: rozgrywająca
A5: 5 | B5: Magdalena Piątek | D5: skrzydłowa
A6: 6 | B6: Sylwia Wojcieska | D6: środkowa
A7: 7 | B7: Gabriela Jasińska | D7: rozgrywająca
A8: 8 | B8: Emilia Mucha | D8: skrzydłowa
A9: 12 | B9: Justyna Sosnowska | D9: środkowa
A10: 13 | B10: Paulina Maj | D10: libero
A11: 14 | B11: Natalia Kurnikowska | D11: skrzydłowa
A12: 16 | B12: Aleksandra Jagieło | D12: skrzydłowa
A13: 17 | B13: Ivana Pchlotova | D13: środkowa
A14: 1 | B14: Marina Cvetanovic | D14: skrzydłowa (od grudnia 2013)
B15: Bogdan Serwiński | D15: I Trener
B16: Ryszard Litwin | D16: II Trener
B17: Łukasz Witczak | D17: Masażysta
B18: Rafał Kluska | D18: Statystyk
B19: Grzegorz Jeżowski | D19: Prezes Klubu
A20: MECZE SPARINGOWE PRZED SEZONEM | F20: W | G20: P | H20: R
A21: Lp | B21: Data | C21: Miejsce | D21: Mecz | E21: Wynik | F21: =SUM(F22:F39) -> 0 | G21: =SUM(G22:G39) -> 0 | H21: =SUM(H22:H39) -> 0
A22: 1.
A23: 2.
A24: 3.
A25: 4.
A26: 5.
A27: 6.
A28: 7.
A29: 8.
A30: 9.
A31: 10.
A32: 11.
A33: 12.
... A38: 17.
